BEGIN:VCALENDAR
VERSION:2.0
PRODID:-//eventon.com NONSGML v1.0//EN
CALSCALE:GREGORIAN
METHOD:PUBLISH
BEGIN:VEVENT
UID:69e5f896d6ea2
DTSTAMP:20260420T095742
DTSTART:20250408
DTEND:20250409
TZID:Africa/Abidjan
LOCATION:
SUMMARY:One Ok Rock en Chile
DESCRIPTION: One Ok Rock en Chile\nhttps://hxclife.com/events/one-ok-rock-en-chile/
URL:https://hxclife.com/events/one-ok-rock-en-chile/
END:VEVENT
END:VCALENDAR